BEGIN:VCALENDAR
VERSION:2.0
PRODID:-//Nam Wah Pai Kung Fu - ECPv6.15.17//NONSGML v1.0//EN
CALSCALE:GREGORIAN
METHOD:PUBLISH
X-ORIGINAL-URL:https://nwp-kungfu.de
X-WR-CALDESC:Veranstaltungen für Nam Wah Pai Kung Fu
REFRESH-INTERVAL;VALUE=DURATION:PT1H
X-Robots-Tag:noindex
X-PUBLISHED-TTL:PT1H
BEGIN:VTIMEZONE
TZID:Europe/Berlin
BEGIN:DAYLIGHT
TZOFFSETFROM:+0100
TZOFFSETTO:+0200
TZNAME:CEST
DTSTART:20210328T010000
END:DAYLIGHT
BEGIN:STANDARD
TZOFFSETFROM:+0200
TZOFFSETTO:+0100
TZNAME:CET
DTSTART:20211031T010000
END:STANDARD
BEGIN:DAYLIGHT
TZOFFSETFROM:+0100
TZOFFSETTO:+0200
TZNAME:CEST
DTSTART:20220327T010000
END:DAYLIGHT
BEGIN:STANDARD
TZOFFSETFROM:+0200
TZOFFSETTO:+0100
TZNAME:CET
DTSTART:20221030T010000
END:STANDARD
BEGIN:DAYLIGHT
TZOFFSETFROM:+0100
TZOFFSETTO:+0200
TZNAME:CEST
DTSTART:20230326T010000
END:DAYLIGHT
BEGIN:STANDARD
TZOFFSETFROM:+0200
TZOFFSETTO:+0100
TZNAME:CET
DTSTART:20231029T010000
END:STANDARD
END:VTIMEZONE
BEGIN:VEVENT
DTSTART;TZID=Europe/Berlin:20221001T100000
DTEND;TZID=Europe/Berlin:20221002T120000
DTSTAMP:20260421T130704
CREATED:20220828T211426Z
LAST-MODIFIED:20220828T212847Z
UID:3288-1664618400-1664712000@nwp-kungfu.de
SUMMARY:Löwentanz Seminar
DESCRIPTION:Am 1. Oktober machen wir ein Löwentanz Seminar in Bruckdorf! \nWir starten um 10:00 Uhr um Bewegungen des Löwen und die dazugehörende Musik zu erlernen. Beenden werden wir den Samstag um circa 17:00 Uhr.\nAm Sonntag kann jeder das neu erlernte zwischen 10:00 und 12:00 Uhr nochmal ausprobieren. Wer Lust hat kann das Seminar nebenan bei einem gemeinsamen Mittagessen ausklingen lassen. \nDie Löwen freuen sich über ein hong bao damit sie sich Futter kaufen können. \nAnmeldung bis 23. September an linding@nwp-kungfu.de
URL:https://nwp-kungfu.de/event/loewentanz-seminar/
LOCATION:Bruckdorf\, Bruckdorf 7\, Bruckdorf\, 93161
CATEGORIES:Löwentanz
ORGANIZER;CN="J%C3%BCrgen Lindinger":MAILTO:linding@nwp-kungfu.de
END:VEVENT
END:VCALENDAR